BEGIN:VCALENDAR
VERSION:2.0
PRODID:-//ischers Sänggerma - ECPv6.15.20//NONSGML v1.0//EN
CALSCALE:GREGORIAN
METHOD:PUBLISH
X-WR-CALNAME:ischers Sänggerma
X-ORIGINAL-URL:https://xn--snggerma-0za.ch
X-WR-CALDESC:Veranstaltungen für ischers Sänggerma
REFRESH-INTERVAL;VALUE=DURATION:PT1H
X-Robots-Tag:noindex
X-PUBLISHED-TTL:PT1H
BEGIN:VTIMEZONE
TZID:Europe/Zurich
BEGIN:DAYLIGHT
TZOFFSETFROM:+0100
TZOFFSETTO:+0200
TZNAME:CEST
DTSTART:20250330T010000
END:DAYLIGHT
BEGIN:STANDARD
TZOFFSETFROM:+0200
TZOFFSETTO:+0100
TZNAME:CET
DTSTART:20251026T010000
END:STANDARD
BEGIN:DAYLIGHT
TZOFFSETFROM:+0100
TZOFFSETTO:+0200
TZNAME:CEST
DTSTART:20260329T010000
END:DAYLIGHT
BEGIN:STANDARD
TZOFFSETFROM:+0200
TZOFFSETTO:+0100
TZNAME:CET
DTSTART:20261025T010000
END:STANDARD
BEGIN:DAYLIGHT
TZOFFSETFROM:+0100
TZOFFSETTO:+0200
TZNAME:CEST
DTSTART:20270328T010000
END:DAYLIGHT
BEGIN:STANDARD
TZOFFSETFROM:+0200
TZOFFSETTO:+0100
TZNAME:CET
DTSTART:20271031T010000
END:STANDARD
END:VTIMEZONE
BEGIN:VEVENT
DTSTART;TZID=Europe/Zurich:20261026T193000
DTEND;TZID=Europe/Zurich:20261026T193000
DTSTAMP:20260422T184314
CREATED:20260123T220057Z
LAST-MODIFIED:20260123T220057Z
UID:4276-1793043000-1793043000@xn--snggerma-0za.ch
SUMMARY:Sportverein St. German GV
DESCRIPTION:
URL:https://xn--snggerma-0za.ch/veranstaltung/sportverein-st-german-gv-2/
END:VEVENT
BEGIN:VEVENT
DTSTART;TZID=Europe/Zurich:20261031T183000
DTEND;TZID=Europe/Zurich:20261031T183000
DTSTAMP:20260422T184314
CREATED:20260123T220112Z
LAST-MODIFIED:20260123T220112Z
UID:4277-1793471400-1793471400@xn--snggerma-0za.ch
SUMMARY:Gesangverein St. German singt Vorabendmesse (Allerheiligen)
DESCRIPTION:
URL:https://xn--snggerma-0za.ch/veranstaltung/gesangverein-st-german-singt-vorabendmesse-allerheiligen-2/
END:VEVENT
BEGIN:VEVENT
DTSTART;TZID=Europe/Zurich:20261121T173000
DTEND;TZID=Europe/Zurich:20261121T173000
DTSTAMP:20260422T184314
CREATED:20260123T220112Z
LAST-MODIFIED:20260123T220112Z
UID:4278-1795282200-1795282200@xn--snggerma-0za.ch
SUMMARY:Gesangverein St. German singt Vorabendmesse (zu Ehren der hl. Cäcilia)
DESCRIPTION:
URL:https://xn--snggerma-0za.ch/veranstaltung/gesangverein-st-german-singt-vorabendmesse-zu-ehren-der-hl-caecilia-2/
END:VEVENT
BEGIN:VEVENT
DTSTART;TZID=Europe/Zurich:20261127T190000
DTEND;TZID=Europe/Zurich:20261127T190000
DTSTAMP:20260422T184314
CREATED:20260123T213040Z
LAST-MODIFIED:20260123T220112Z
UID:4214-1795806000-1795806000@xn--snggerma-0za.ch
SUMMARY:GV iischers sänggerma
DESCRIPTION:
URL:https://xn--snggerma-0za.ch/veranstaltung/gv-iischers-saenggerma/
LOCATION:Turnhalle St.German\, Dorfstrasse 47\, St. German\, Wallis\, 3942\, Schweiz
END:VEVENT
BEGIN:VEVENT
DTSTART;TZID=Europe/Zurich:20261207T173000
DTEND;TZID=Europe/Zurich:20261207T173000
DTSTAMP:20260422T184314
CREATED:20260123T220112Z
LAST-MODIFIED:20260123T220112Z
UID:4279-1796664600-1796664600@xn--snggerma-0za.ch
SUMMARY:Gesangverein St. German singt Vorabendmesse (Maria Empfängnis)
DESCRIPTION:
URL:https://xn--snggerma-0za.ch/veranstaltung/gesangverein-st-german-singt-vorabendmesse-maria-empfaengnis-2/
END:VEVENT
BEGIN:VEVENT
DTSTART;TZID=Europe/Zurich:20261225T103000
DTEND;TZID=Europe/Zurich:20261225T103000
DTSTAMP:20260422T184314
CREATED:20260123T220112Z
LAST-MODIFIED:20260123T220112Z
UID:4280-1798194600-1798194600@xn--snggerma-0za.ch
SUMMARY:Gesangverein St. German singt Messe am Heiligen Tag
DESCRIPTION:
URL:https://xn--snggerma-0za.ch/veranstaltung/gesangverein-st-german-singt-messe-am-heiligen-tag-2/
END:VEVENT
END:VCALENDAR