BEGIN:VCALENDAR
VERSION:2.0
PRODID:-//ischers Sänggerma - ECPv6.15.20//NONSGML v1.0//EN
CALSCALE:GREGORIAN
METHOD:PUBLISH
X-WR-CALNAME:ischers Sänggerma
X-ORIGINAL-URL:https://xn--snggerma-0za.ch
X-WR-CALDESC:Veranstaltungen für ischers Sänggerma
REFRESH-INTERVAL;VALUE=DURATION:PT1H
X-Robots-Tag:noindex
X-PUBLISHED-TTL:PT1H
BEGIN:VTIMEZONE
TZID:Europe/Zurich
BEGIN:DAYLIGHT
TZOFFSETFROM:+0100
TZOFFSETTO:+0200
TZNAME:CEST
DTSTART:20250330T010000
END:DAYLIGHT
BEGIN:STANDARD
TZOFFSETFROM:+0200
TZOFFSETTO:+0100
TZNAME:CET
DTSTART:20251026T010000
END:STANDARD
BEGIN:DAYLIGHT
TZOFFSETFROM:+0100
TZOFFSETTO:+0200
TZNAME:CEST
DTSTART:20260329T010000
END:DAYLIGHT
BEGIN:STANDARD
TZOFFSETFROM:+0200
TZOFFSETTO:+0100
TZNAME:CET
DTSTART:20261025T010000
END:STANDARD
BEGIN:DAYLIGHT
TZOFFSETFROM:+0100
TZOFFSETTO:+0200
TZNAME:CEST
DTSTART:20270328T010000
END:DAYLIGHT
BEGIN:STANDARD
TZOFFSETFROM:+0200
TZOFFSETTO:+0100
TZNAME:CET
DTSTART:20271031T010000
END:STANDARD
END:VTIMEZONE
BEGIN:VEVENT
DTSTART;TZID=Europe/Zurich:20260502T120000
DTEND;TZID=Europe/Zurich:20260502T170000
DTSTAMP:20260422T202415
CREATED:20260415T040922Z
LAST-MODIFIED:20260415T040926Z
UID:5962-1777723200-1777741200@xn--snggerma-0za.ch
SUMMARY:Gesangverein am Dekanatstreffen der Chöre in Bürchen
DESCRIPTION:
URL:https://xn--snggerma-0za.ch/veranstaltung/gesangverein-am-dekanatstreffen-der-choere-in-buerchen/
END:VEVENT
BEGIN:VEVENT
DTSTART;TZID=Europe/Zurich:20260502T133000
DTEND;TZID=Europe/Zurich:20260502T173000
DTSTAMP:20260422T202415
CREATED:20260415T040251Z
LAST-MODIFIED:20260415T040732Z
UID:5959-1777728600-1777743000@xn--snggerma-0za.ch
SUMMARY:Dorfrundgang
DESCRIPTION:
URL:https://xn--snggerma-0za.ch/veranstaltung/dorfrundgang/
ATTACH;FMTTYPE=image/png:https://xn--snggerma-0za.ch/wp-content/uploads/2026/04/dorfrundgang_20260502.png
END:VEVENT
BEGIN:VEVENT
DTSTART;TZID=Europe/Zurich:20260513T173000
DTEND;TZID=Europe/Zurich:20260513T173000
DTSTAMP:20260422T202415
CREATED:20260123T220027Z
LAST-MODIFIED:20260123T220027Z
UID:4267-1778693400-1778693400@xn--snggerma-0za.ch
SUMMARY:Gesangverein St. German singt Vorabendmesse (Christi Himmelfahrt)
DESCRIPTION:
URL:https://xn--snggerma-0za.ch/veranstaltung/gesangverein-st-german-singt-vorabendmesse-christi-himmelfahrt-2/
END:VEVENT
BEGIN:VEVENT
DTSTART;TZID=Europe/Zurich:20260523T173000
DTEND;TZID=Europe/Zurich:20260523T173000
DTSTAMP:20260422T202415
CREATED:20260123T220041Z
LAST-MODIFIED:20260123T220041Z
UID:4268-1779557400-1779557400@xn--snggerma-0za.ch
SUMMARY:Gesangverein St. German singt Vorabendmesse (Pfingsten)
DESCRIPTION:
URL:https://xn--snggerma-0za.ch/veranstaltung/gesangverein-st-german-singt-vorabendmesse-pfingsten-2/
END:VEVENT
END:VCALENDAR